BEGIN:VCALENDAR
PRODID:-//eluceo/ical//2.0/EN
VERSION:2.0
CALSCALE:GREGORIAN
BEGIN:VEVENT
UID:3eae098f2050bec416a88c51093fe3f2
DTSTAMP:20260425T103617Z
SUMMARY:Brunch
DESCRIPTION:
URL:https://pays-de-herve.rotaractbelux.org/fr/agenda/show/96298
DTSTART;TZID=Europe/Zurich:20260329T100000
DTEND;TZID=Europe/Zurich:20260329T140000
LOCATION:Cercle Saint-Vincent – Battice
CATEGORIES:Rotaract
END:VEVENT
BEGIN:VTIMEZONE
TZID:Europe/Zurich
BEGIN:DAYLIGHT
DTSTART:20260329T100000
TZNAME:CEST
TZOFFSETTO:+0200
TZOFFSETFROM:+0200
END:DAYLIGHT
END:VTIMEZONE
END:VCALENDAR
